BEGIN:VCALENDAR
VERSION:2.0
PRODID:-//Hollyfield School PTA - ECPv6.15.10//NONSGML v1.0//EN
CALSCALE:GREGORIAN
METHOD:PUBLISH
X-WR-CALNAME:Hollyfield School PTA
X-ORIGINAL-URL:https://hollyfieldpta.org
X-WR-CALDESC:Events for Hollyfield School PTA
REFRESH-INTERVAL;VALUE=DURATION:PT1H
X-Robots-Tag:noindex
X-PUBLISHED-TTL:PT1H
BEGIN:VTIMEZONE
TZID:Europe/London
BEGIN:DAYLIGHT
TZOFFSETFROM:+0000
TZOFFSETTO:+0100
TZNAME:BST
DTSTART:20150329T010000
END:DAYLIGHT
BEGIN:STANDARD
TZOFFSETFROM:+0100
TZOFFSETTO:+0000
TZNAME:GMT
DTSTART:20151025T010000
END:STANDARD
BEGIN:DAYLIGHT
TZOFFSETFROM:+0000
TZOFFSETTO:+0100
TZNAME:BST
DTSTART:20160327T010000
END:DAYLIGHT
BEGIN:STANDARD
TZOFFSETFROM:+0100
TZOFFSETTO:+0000
TZNAME:GMT
DTSTART:20161030T010000
END:STANDARD
BEGIN:DAYLIGHT
TZOFFSETFROM:+0000
TZOFFSETTO:+0100
TZNAME:BST
DTSTART:20170326T010000
END:DAYLIGHT
BEGIN:STANDARD
TZOFFSETFROM:+0100
TZOFFSETTO:+0000
TZNAME:GMT
DTSTART:20171029T010000
END:STANDARD
BEGIN:DAYLIGHT
TZOFFSETFROM:+0000
TZOFFSETTO:+0100
TZNAME:BST
DTSTART:20180325T010000
END:DAYLIGHT
BEGIN:STANDARD
TZOFFSETFROM:+0100
TZOFFSETTO:+0000
TZNAME:GMT
DTSTART:20181028T010000
END:STANDARD
END:VTIMEZONE
BEGIN:VEVENT
DTSTART;TZID=Europe/London:20170706T190000
DTEND;TZID=Europe/London:20170706T190000
DTSTAMP:20260424T204644
CREATED:20170623T163825Z
LAST-MODIFIED:20170623T163825Z
UID:153-1499367600-1499367600@hollyfieldpta.org
SUMMARY:New Year 7 Parent Info Evening
DESCRIPTION:
URL:https://hollyfieldpta.org/event/new-year-7-parent-info-evening/
CATEGORIES:PTA supporting school event
END:VEVENT
BEGIN:VEVENT
DTSTART;TZID=Europe/London:20170705T190000
DTEND;TZID=Europe/London:20170705T190000
DTSTAMP:20260424T204644
CREATED:20160919T140016Z
LAST-MODIFIED:20170623T163800Z
UID:69-1499281200-1499281200@hollyfieldpta.org
SUMMARY:New Year 7 Parent Info Evening
DESCRIPTION:
URL:https://hollyfieldpta.org/event/new-year-7-parent-info-evenings/
CATEGORIES:PTA supporting school event
END:VEVENT
BEGIN:VEVENT
DTSTART;VALUE=DATE:20170328
DTEND;VALUE=DATE:20170329
DTSTAMP:20260424T204644
CREATED:20160919T135733Z
LAST-MODIFIED:20160919T135733Z
UID:66-1490659200-1490745599@hollyfieldpta.org
SUMMARY:International Concert
DESCRIPTION:
URL:https://hollyfieldpta.org/event/international-concert/
CATEGORIES:PTA supporting school event
END:VEVENT
BEGIN:VEVENT
DTSTART;VALUE=DATE:20170208
DTEND;VALUE=DATE:20170212
DTSTAMP:20260424T204644
CREATED:20160919T135657Z
LAST-MODIFIED:20160919T135657Z
UID:65-1486512000-1486857599@hollyfieldpta.org
SUMMARY:Ilex Theatre Production Week
DESCRIPTION:
URL:https://hollyfieldpta.org/event/ilex-theatre-production-week/
CATEGORIES:PTA supporting school event
END:VEVENT
BEGIN:VEVENT
DTSTART;TZID=Europe/London:20161215T190000
DTEND;TZID=Europe/London:20161215T190000
DTSTAMP:20260424T204644
CREATED:20160919T135424Z
LAST-MODIFIED:20160919T141118Z
UID:63-1481828400-1481828400@hollyfieldpta.org
SUMMARY:Hollyfield Christmas Carol Concert
DESCRIPTION:
URL:https://hollyfieldpta.org/event/hollyfield-christmas-carol-concert/
CATEGORIES:PTA supporting school event
END:VEVENT
BEGIN:VEVENT
DTSTART;TZID=Europe/London:20161018T183000
DTEND;TZID=Europe/London:20161018T183000
DTSTAMP:20260424T204644
CREATED:20160919T135319Z
LAST-MODIFIED:20160919T141415Z
UID:62-1476815400-1476815400@hollyfieldpta.org
SUMMARY:Year 8 info evening
DESCRIPTION:
URL:https://hollyfieldpta.org/event/year-8-info-evening/
CATEGORIES:PTA supporting school event
END:VEVENT
BEGIN:VEVENT
DTSTART;TZID=Europe/London:20161011T183000
DTEND;TZID=Europe/London:20161011T183000
DTSTAMP:20260424T204644
CREATED:20160919T134956Z
LAST-MODIFIED:20160919T141136Z
UID:61-1476210600-1476210600@hollyfieldpta.org
SUMMARY:Year 9 info evening
DESCRIPTION:
URL:https://hollyfieldpta.org/event/year-9-info-evening/
CATEGORIES:PTA supporting school event
END:VEVENT
BEGIN:VEVENT
DTSTART;TZID=Europe/London:20160927T183000
DTEND;TZID=Europe/London:20160927T183000
DTSTAMP:20260424T204644
CREATED:20160919T134919Z
LAST-MODIFIED:20160919T141156Z
UID:60-1475001000-1475001000@hollyfieldpta.org
SUMMARY:Year 10 info evening
DESCRIPTION:
URL:https://hollyfieldpta.org/event/year-10-info-evening/
CATEGORIES:PTA supporting school event
END:VEVENT
BEGIN:VEVENT
DTSTART;TZID=Europe/London:20160922T183000
DTEND;TZID=Europe/London:20160922T183000
DTSTAMP:20260424T204644
CREATED:20160919T134753Z
LAST-MODIFIED:20160919T141205Z
UID:59-1474569000-1474569000@hollyfieldpta.org
SUMMARY:Year 11 info evening
DESCRIPTION:
URL:https://hollyfieldpta.org/event/year-11-info-evening/
CATEGORIES:PTA supporting school event
END:VEVENT
END:VCALENDAR