BEGIN:VCALENDAR
VERSION:2.0
PRODID:-//Hollyfield School PTA - ECPv6.15.10//NONSGML v1.0//EN
CALSCALE:GREGORIAN
METHOD:PUBLISH
X-WR-CALNAME:Hollyfield School PTA
X-ORIGINAL-URL:https://hollyfieldpta.org
X-WR-CALDESC:Events for Hollyfield School PTA
REFRESH-INTERVAL;VALUE=DURATION:PT1H
X-Robots-Tag:noindex
X-PUBLISHED-TTL:PT1H
BEGIN:VTIMEZONE
TZID:Europe/London
BEGIN:DAYLIGHT
TZOFFSETFROM:+0000
TZOFFSETTO:+0100
TZNAME:BST
DTSTART:20170326T010000
END:DAYLIGHT
BEGIN:STANDARD
TZOFFSETFROM:+0100
TZOFFSETTO:+0000
TZNAME:GMT
DTSTART:20171029T010000
END:STANDARD
BEGIN:DAYLIGHT
TZOFFSETFROM:+0000
TZOFFSETTO:+0100
TZNAME:BST
DTSTART:20180325T010000
END:DAYLIGHT
BEGIN:STANDARD
TZOFFSETFROM:+0100
TZOFFSETTO:+0000
TZNAME:GMT
DTSTART:20181028T010000
END:STANDARD
BEGIN:DAYLIGHT
TZOFFSETFROM:+0000
TZOFFSETTO:+0100
TZNAME:BST
DTSTART:20190331T010000
END:DAYLIGHT
BEGIN:STANDARD
TZOFFSETFROM:+0100
TZOFFSETTO:+0000
TZNAME:GMT
DTSTART:20191027T010000
END:STANDARD
BEGIN:DAYLIGHT
TZOFFSETFROM:+0000
TZOFFSETTO:+0100
TZNAME:BST
DTSTART:20200329T010000
END:DAYLIGHT
BEGIN:STANDARD
TZOFFSETFROM:+0100
TZOFFSETTO:+0000
TZNAME:GMT
DTSTART:20201025T010000
END:STANDARD
BEGIN:DAYLIGHT
TZOFFSETFROM:+0000
TZOFFSETTO:+0100
TZNAME:BST
DTSTART:20210328T010000
END:DAYLIGHT
BEGIN:STANDARD
TZOFFSETFROM:+0100
TZOFFSETTO:+0000
TZNAME:GMT
DTSTART:20211031T010000
END:STANDARD
BEGIN:DAYLIGHT
TZOFFSETFROM:+0000
TZOFFSETTO:+0100
TZNAME:BST
DTSTART:20220327T010000
END:DAYLIGHT
BEGIN:STANDARD
TZOFFSETFROM:+0100
TZOFFSETTO:+0000
TZNAME:GMT
DTSTART:20221030T010000
END:STANDARD
BEGIN:DAYLIGHT
TZOFFSETFROM:+0000
TZOFFSETTO:+0100
TZNAME:BST
DTSTART:20230326T010000
END:DAYLIGHT
BEGIN:STANDARD
TZOFFSETFROM:+0100
TZOFFSETTO:+0000
TZNAME:GMT
DTSTART:20231029T010000
END:STANDARD
BEGIN:DAYLIGHT
TZOFFSETFROM:+0000
TZOFFSETTO:+0100
TZNAME:BST
DTSTART:20240331T010000
END:DAYLIGHT
BEGIN:STANDARD
TZOFFSETFROM:+0100
TZOFFSETTO:+0000
TZNAME:GMT
DTSTART:20241027T010000
END:STANDARD
BEGIN:DAYLIGHT
TZOFFSETFROM:+0000
TZOFFSETTO:+0100
TZNAME:BST
DTSTART:20250330T010000
END:DAYLIGHT
BEGIN:STANDARD
TZOFFSETFROM:+0100
TZOFFSETTO:+0000
TZNAME:GMT
DTSTART:20251026T010000
END:STANDARD
BEGIN:DAYLIGHT
TZOFFSETFROM:+0000
TZOFFSETTO:+0100
TZNAME:BST
DTSTART:20260329T010000
END:DAYLIGHT
BEGIN:STANDARD
TZOFFSETFROM:+0100
TZOFFSETTO:+0000
TZNAME:GMT
DTSTART:20261025T010000
END:STANDARD
END:VTIMEZONE
BEGIN:VEVENT
DTSTART;TZID=Europe/London:20250705T140000
DTEND;TZID=Europe/London:20250705T220000
DTSTAMP:20260424T163602
CREATED:20250722T152113Z
LAST-MODIFIED:20250722T152113Z
UID:869-1751724000-1751752800@hollyfieldpta.org
SUMMARY:Hollyfest 2025
DESCRIPTION:
URL:https://hollyfieldpta.org/event/hollyfest-2025/
END:VEVENT
BEGIN:VEVENT
DTSTART;TZID=Europe/London:20250621T100000
DTEND;TZID=Europe/London:20250621T120000
DTSTAMP:20260424T163602
CREATED:20250722T153755Z
LAST-MODIFIED:20250722T153755Z
UID:879-1750500000-1750507200@hollyfieldpta.org
SUMMARY:Pre-Loved Uniform Sale
DESCRIPTION:As PTA we have an [informal] Pre-loved uniform ‘shop’ approximately once a term.\nThis is run by volunteers. \nOur next session is:\n21st of June 2025\n10:00-12:00\nAt the old Music Building\, Next to the Dome\, Close to the Lamberts Road Gate \nYou are very welcome to drop in and see if we have any items your child needs.\nWe have a large stock of items of uniform (particularly trousers) and PE kit. Availability varies\nWe operate a donation system for those that can afford to contribute.\nEveryone is Welcome – it is best the items get used\, rather than sit in a store or be thrown away!
URL:https://hollyfieldpta.org/event/pre-loved-uniform-sale-4/
END:VEVENT
BEGIN:VEVENT
DTSTART;TZID=Europe/London:20250426T100000
DTEND;TZID=Europe/London:20250426T120000
DTSTAMP:20260424T163602
CREATED:20250722T154705Z
LAST-MODIFIED:20250722T154705Z
UID:886-1745661600-1745668800@hollyfieldpta.org
SUMMARY:Pre-Loved Uniform Sale
DESCRIPTION:s PTA we have an [informal] Pre-loved uniform ‘shop’ approximately once a term.\nThis is run by volunteers. \nOur next session is:\n26th April 2025\n10:00-12:00\nAt the old Music Building\, Next to the Dome\, Close to the Lamberts Road Gate \nYou are very welcome to drop in and see if we have any items your child needs.\nWe have a large stock of items of uniform (particularly trousers) and PE kit. Availability varies\nWe operate a donation system for those that can afford to contribute.\nEveryone is Welcome – it is best the items get used\, rather than sit in a store or be thrown away!
URL:https://hollyfieldpta.org/event/pre-loved-uniform-sale-5/
END:VEVENT
BEGIN:VEVENT
DTSTART;TZID=Europe/London:20250111T100000
DTEND;TZID=Europe/London:20250111T120000
DTSTAMP:20260424T163602
CREATED:20250722T153512Z
LAST-MODIFIED:20250722T155550Z
UID:874-1736589600-1736596800@hollyfieldpta.org
SUMMARY:Pre-Loved Uniform Sale
DESCRIPTION:As PTA we have an [informal] Pre-loved uniform ‘shop’ approximately once a term.\nThis is run by volunteers. \nOur next session is:\n11th of January 2025\n10:00-12:00\nAt the old Music Building\, Next to the Dome\, Close to the Lamberts Road Gate \nYou are very welcome to drop in and see if we have any items your child needs.\nWe have a large stock of items of uniform (particularly trousers) and PE kit. Availability varies\nWe operate a donation system for those that can afford to contribute.\nEveryone is Welcome – it is best the items get used\, rather than sit in a store or be thrown away!
URL:https://hollyfieldpta.org/event/pre-loved-uniform-sale-3/
END:VEVENT
BEGIN:VEVENT
DTSTART;TZID=Europe/London:20241212T183000
DTEND;TZID=Europe/London:20241212T220000
DTSTAMP:20260424T163602
CREATED:20250722T155009Z
LAST-MODIFIED:20250722T174653Z
UID:893-1734028200-1734040800@hollyfieldpta.org
SUMMARY:Christmas Carol Service and Concert
DESCRIPTION:The Hollyfield Christmas Concert & Carol Service 2024 is on Thursday 12 December\n2024. The Carol Service will start at 6:30pm at St Mark’s Church (over the road\nfrom school) and finish at approx. 7:30pm. This is a traditional Carol Service featuring\nthe school’s three choirs (Senior Choir\, Chamber Choir and Hollyfield Singers). You do\nnot need a ticket for this event. \nThis will then be followed by the Christmas Concert in the school hall (start time approx.\n8.00pm – 9:45pm). This is by advanced TICKETS ONLY and there is a limited\nnumber remaining. This will feature the Hollyfield Orchestra\,\nSwing Band\, Rock School bands (from a range of different year groups) and Ukulele\nensemble. We look forward to seeing you there.
URL:https://hollyfieldpta.org/event/christmas-carol-service-and-concert/
END:VEVENT
BEGIN:VEVENT
DTSTART;TZID=Europe/London:20241115T183000
DTEND;TZID=Europe/London:20241115T210000
DTSTAMP:20260424T163602
CREATED:20250722T154908Z
LAST-MODIFIED:20250722T154908Z
UID:891-1731695400-1731704400@hollyfieldpta.org
SUMMARY:Yr 7 Quiz Night
DESCRIPTION:Please join us at our PTA Year 7 quiz night on 15th November 2024\n \nThis is a great opportunity to meet other Year 7 new parents and children.\n \nDoors will open at 6.30pm for a 7pm start. Tickets available for sale and this includes quiz entrance and dinner.\n \nThere will also be a pay bar available.
URL:https://hollyfieldpta.org/event/yr-7-quiz-night-2/
END:VEVENT
BEGIN:VEVENT
DTSTART;TZID=Europe/London:20240907T100000
DTEND;TZID=Europe/London:20240907T120000
DTSTAMP:20260424T163602
CREATED:20250722T154755Z
LAST-MODIFIED:20250722T155624Z
UID:888-1725703200-1725710400@hollyfieldpta.org
SUMMARY:Pre-Loved Uniform Sale
DESCRIPTION:s PTA we have an [informal] Pre-loved uniform ‘shop’ approximately once a term.\nThis is run by volunteers. \nOur next session is:\n7th September 2024\n10:00-12:00\nAt the old Music Building\, Next to the Dome\, Close to the Lamberts Road Gate \nYou are very welcome to drop in and see if we have any items your child needs.\nWe have a large stock of items of uniform (particularly trousers) and PE kit. Availability varies\nWe operate a donation system for those that can afford to contribute.\nEveryone is Welcome – it is best the items get used\, rather than sit in a store or be thrown away!
URL:https://hollyfieldpta.org/event/pre-loved-uniform-sale-6/
END:VEVENT
BEGIN:VEVENT
DTSTART;TZID=Europe/London:20240713T140000
DTEND;TZID=Europe/London:20240713T220000
DTSTAMP:20260424T163602
CREATED:20240429T054550Z
LAST-MODIFIED:20240524T070821Z
UID:739-1720879200-1720908000@hollyfieldpta.org
SUMMARY:Hollyfest 2024
DESCRIPTION:Hollyfest is Hollyfield School biennial festival\, celebrating throughout the evening with music\, games\, food and drink. We end the night with a fireworks show at dusk. To book tickets visit https://www.pta-events.co.uk/hollyfield/
URL:https://hollyfieldpta.org/event/hollyfest-2024/
LOCATION:Hollyfield School\, Surbiton Hill Road\, Surbiton\, KT6 4TU\, United Kingdom
END:VEVENT
BEGIN:VEVENT
DTSTART;TZID=Europe/London:20230701T100000
DTEND;TZID=Europe/London:20230701T120000
DTSTAMP:20260424T163602
CREATED:20230502T203018Z
LAST-MODIFIED:20230502T204329Z
UID:715-1688205600-1688212800@hollyfieldpta.org
SUMMARY:Pre-loved Uniform Sale
DESCRIPTION:As PTA we have an [informal] Pre-loved uniform ‘shop’ approximately once a term.\nThis is run by volunteers. \nOur next session is:\n1st of July 2023\n10:00-12:00\nAt the old Music Building\, Next to the Dome\, Close to the Lamberts Road Gate \nYou are very welcome to drop in and see if we have any items your child needs.\nWe have a large stock of items of uniform (particularly trousers) and PE kit. Availability varies\nWe operate a donation system for those that can afford to contribute.\nEveryone is Welcome – it is best the items get used\, rather than sit in a store or be thrown away!
URL:https://hollyfieldpta.org/event/pre-loved-uniform-sale/
LOCATION:The old Music Building (next to the Dome)
END:VEVENT
BEGIN:VEVENT
DTSTART;TZID=Europe/London:20230616T190000
DTEND;TZID=Europe/London:20230616T223000
DTSTAMP:20260424T163602
CREATED:20230520T170340Z
LAST-MODIFIED:20230522T062645Z
UID:721-1686942000-1686954600@hollyfieldpta.org
SUMMARY:PTA Quiz
DESCRIPTION:Join us and other adults in the school community for a quiz night at the school! You can book tickets online here: \nhttps://www.pta-events.co.uk/hollyfield/ \nYou need to get up to 8 people together for a team. Make sure you add your team name to the booking so we can put you together with the rest of your team on the night.
URL:https://hollyfieldpta.org/event/pta-quiz-2/
LOCATION:School Hall
END:VEVENT
BEGIN:VEVENT
DTSTART;TZID=Europe/London:20221015T100000
DTEND;TZID=Europe/London:20221015T120000
DTSTAMP:20260424T163602
CREATED:20221003T124613Z
LAST-MODIFIED:20221003T124646Z
UID:693-1665828000-1665835200@hollyfieldpta.org
SUMMARY:Pre-Worn School Uniform Sale
DESCRIPTION:On Saturday 15th October between 10 am and midday\, the PTA will open the Pre-Worn School Uniform store for anyone to pop in and take items they need. We will be in the old music block (next to the dome).
URL:https://hollyfieldpta.org/event/pre-worn-school-uniform-sale/
ATTACH;FMTTYPE=image/jpeg:https://hollyfieldpta.org/wp-content/uploads/2022/02/second-hand-uniform-hollyfield-school.jpeg
END:VEVENT
BEGIN:VEVENT
DTSTART;TZID=Europe/London:20220716T040000
DTEND;TZID=Europe/London:20220716T223000
DTSTAMP:20260424T163602
CREATED:20220225T103630Z
LAST-MODIFIED:20220511T081357Z
UID:657-1657944000-1658010600@hollyfieldpta.org
SUMMARY:Hollyfest 2022
DESCRIPTION:Please save the date because our legendary Hollyfest is back. Click for more details about Hollyfest 2022 \n 
URL:https://hollyfieldpta.org/event/hollyfest-2022/
END:VEVENT
BEGIN:VEVENT
DTSTART;TZID=Europe/London:20220525T170000
DTEND;TZID=Europe/London:20220525T190000
DTSTAMP:20260424T163602
CREATED:20220511T081017Z
LAST-MODIFIED:20220511T081057Z
UID:678-1653498000-1653505200@hollyfieldpta.org
SUMMARY:Pre-Worn Uniform Sale
DESCRIPTION:If your child has outgrown their uniform or PE kit and if it is in good condition\, please consider donating it to us. \nWe particularly need: \n\nBlazers\nRugby tops\nPE tops\nPE sweatshirts\nTies\n\nPlease put the laundered items in a bag and leave them in the bin marked ‘Uniform Donations’ in Albury reception. \nWe plan to open the store on Wednesday 25th May from 5 pm till 7 pm for those who need any items to come along and help themselves.
URL:https://hollyfieldpta.org/event/pre-worn-uniform-sale-2/
END:VEVENT
BEGIN:VEVENT
DTSTART;TZID=Europe/London:20220325T190000
DTEND;TZID=Europe/London:20220325T220000
DTSTAMP:20260424T163602
CREATED:20220225T103203Z
LAST-MODIFIED:20220225T120923Z
UID:655-1648234800-1648245600@hollyfieldpta.org
SUMMARY:PTA Quiz
DESCRIPTION:Save the date for our upcoming PTA Quiz.
URL:https://hollyfieldpta.org/event/pta-quiz/
END:VEVENT
BEGIN:VEVENT
DTSTART;TZID=Europe/London:20220226T093000
DTEND;TZID=Europe/London:20220226T113000
DTSTAMP:20260424T163602
CREATED:20220225T102828Z
LAST-MODIFIED:20220225T103018Z
UID:650-1645867800-1645875000@hollyfieldpta.org
SUMMARY:Pre-Worn Uniform Sale
DESCRIPTION:Please join us this Saturday\, at the old Music Block for our pre-worn uniform sale.
URL:https://hollyfieldpta.org/event/pre-worn-uniform-sale/
END:VEVENT
BEGIN:VEVENT
DTSTART;TZID=Europe/London:20201212T090000
DTEND;TZID=Europe/London:20201213T170000
DTSTAMP:20260424T163602
CREATED:20201124T150914Z
LAST-MODIFIED:20201124T150914Z
UID:563-1607763600-1607878800@hollyfieldpta.org
SUMMARY:Christmas Tree Sales
DESCRIPTION:Join us on our Christmas Tree Sale on Hollyfield School. \nDATES: \n-> 5/6th December \n-> 12/13th December \n-> 19/20th December \nTIME: 9.00am – 5.00pm \nEntrance via Lamberts Road gate\, Lamberts Road\, Surbiton \nEVERY tree bought generates a donation to the School
URL:https://hollyfieldpta.org/event/christmas-tree-sales-2/
CATEGORIES:PTA fundraising event
END:VEVENT
BEGIN:VEVENT
DTSTART;TZID=Europe/London:20201205T090000
DTEND;TZID=Europe/London:20201206T170000
DTSTAMP:20260424T163602
CREATED:20201124T150715Z
LAST-MODIFIED:20201124T150804Z
UID:560-1607158800-1607274000@hollyfieldpta.org
SUMMARY:Christmas Tree Sales
DESCRIPTION:Join us on our Christmas Tree Sale on Hollyfield School. \nDATES: \n-> 5/6th December \n-> 12/13th December \n-> 19/20th December \nTIME: 9.00am – 5.00pm \nEntrance via Lamberts Road gate\, Lamberts Road\, Surbiton \nEVERY tree bought generates a donation to the School
URL:https://hollyfieldpta.org/event/christmas-tree-sales/
CATEGORIES:PTA fundraising event
END:VEVENT
BEGIN:VEVENT
DTSTART;TZID=Europe/London:20191217T190000
DTEND;TZID=Europe/London:20191217T213000
DTSTAMP:20260424T163602
CREATED:20191130T110902Z
LAST-MODIFIED:20191216T140550Z
UID:441-1576609200-1576618200@hollyfieldpta.org
SUMMARY:Christmas Carol Concert
DESCRIPTION:SAVE THE DAY for Christmas Carol Concert \nOur Christmas Concert will take place on Tuesday\, 17 December at 7:00 pm in St Marks Church followed by more merriment in the school hall directly afterwards. \nHere is the menu for the day:
URL:https://hollyfieldpta.org/event/christmas-carol-concert-2/
CATEGORIES:PTA supporting school event
END:VEVENT
BEGIN:VEVENT
DTSTART;TZID=Europe/London:20191214T093000
DTEND;TZID=Europe/London:20191215T170000
DTSTAMP:20260424T163602
CREATED:20191130T023945Z
LAST-MODIFIED:20191130T023945Z
UID:439-1576315800-1576429200@hollyfieldpta.org
SUMMARY:Christmas Tree Sale
DESCRIPTION:DATES: \n-> Sat 30th Nov and Sunday 1st Dec \n-> Sat 7th and Sun 8th Dec \n-> Sat 14th and Sun 15th Dec \nTIME: 9.30am – 5.00pm \nEntrance via Lamberts Road gate\, \nTrees provided by Surrey Christmas Trees \nHigh quality\nNordmann non drop Fir 3ft-7ft (larger trees available on request)\n& Fraser non drop Fir Non-Drop 6-7ft.\nMetal Tree Stands also available to buy \nEVERY tree bought generates a donation to the School
URL:https://hollyfieldpta.org/event/christmas-tree-sale-3/
CATEGORIES:PTA fundraising event
END:VEVENT
BEGIN:VEVENT
DTSTART;TZID=Europe/London:20191207T093000
DTEND;TZID=Europe/London:20191208T170000
DTSTAMP:20260424T163602
CREATED:20191130T023835Z
LAST-MODIFIED:20191130T024004Z
UID:437-1575711000-1575824400@hollyfieldpta.org
SUMMARY:Christmas Tree Sale
DESCRIPTION:DATES: \n-> Sat 30th Nov and Sunday 1st Dec \n-> Sat 7th and Sun 8th Dec \n-> Sat 14th and Sun 15th Dec \nTIME: 9.30am – 5.00pm \nEntrance via Lamberts Road gate\, \nTrees provided by Surrey Christmas Trees \nHigh quality\nNordmann non drop Fir 3ft-7ft (larger trees available on request)\n& Fraser non drop Fir Non-Drop 6-7ft.\nMetal Tree Stands also available to buy \nEVERY tree bought generates a donation to the School
URL:https://hollyfieldpta.org/event/christmas-tree-sale-2/
CATEGORIES:PTA fundraising event
END:VEVENT
BEGIN:VEVENT
DTSTART;TZID=Europe/London:20191130T093000
DTEND;TZID=Europe/London:20191201T170000
DTSTAMP:20260424T163602
CREATED:20191130T022308Z
LAST-MODIFIED:20191130T024040Z
UID:434-1575106200-1575219600@hollyfieldpta.org
SUMMARY:Christmas Tree Sale
DESCRIPTION:DATES: \n-> Sat 30th Nov and Sunday 1st Dec \n-> Sat 7th and Sun 8th Dec \n-> Sat 14th and Sun 15th Dec \nTIME: 9.30am – 5.00pm \nEntrance via Lamberts Road gate\, \nTrees provided by Surrey Christmas Trees \nHigh quality\nNordmann non drop Fir 3ft-7ft (larger trees available on request)\n& Fraser non drop Fir Non-Drop 6-7ft.\nMetal Tree Stands also available to buy \nEVERY tree bought generates a donation to the School
URL:https://hollyfieldpta.org/event/christmas-tree-sale/
CATEGORIES:PTA fundraising event
END:VEVENT
BEGIN:VEVENT
DTSTART;TZID=Europe/London:20191116T183000
DTEND;TZID=Europe/London:20191116T213000
DTSTAMP:20260424T163602
CREATED:20191010T082041Z
LAST-MODIFIED:20191130T024030Z
UID:408-1573929000-1573939800@hollyfieldpta.org
SUMMARY:Year 7 Quiz Night
DESCRIPTION:Please join us at our PTA Year 7 quiz night on Saturday 16 November\n \nThis is a great opportunity to meet other Year 7 new parents and children.\n \nDoors will open at 6.30pm for a 7pm start.\n \nTickets cost £10 for adults and £6 for children\, and this includes dinner.\n \nThere will also be a pay bar available.\n\nClick here to buy your tickets online.
URL:https://hollyfieldpta.org/event/year-7-quiz-night/
LOCATION:School Hall
CATEGORIES:PTA supporting school event
ATTACH;FMTTYPE=image/jpeg:https://hollyfieldpta.org/wp-content/uploads/2019/10/quiz-night-2019-10.jpg
END:VEVENT
BEGIN:VEVENT
DTSTART;TZID=Europe/London:20190706T160000
DTEND;TZID=Europe/London:20190706T223000
DTSTAMP:20260424T163602
CREATED:20190321T100550Z
LAST-MODIFIED:20190706T080021Z
UID:372-1562428800-1562452200@hollyfieldpta.org
SUMMARY:Hollyfest 2019
DESCRIPTION:TICKETS AVAILABLE ON THE GATE\nAdvance online ticket sales are now ended\, but tickets will be available on the gate. Students £3\, Adults £5\, under 5s free\, Family of 4 £12. \nWe look forward to seeing you there!
URL:https://hollyfieldpta.org/event/hollyfest/
CATEGORIES:PTA fundraising event
ATTACH;FMTTYPE=image/png:https://hollyfieldpta.org/wp-content/uploads/2019/04/HFest-2019-Banner.png
END:VEVENT
BEGIN:VEVENT
DTSTART;TZID=Europe/London:20190602T070000
DTEND;TZID=Europe/London:20190602T120000
DTSTAMP:20260424T163602
CREATED:20190325T122404Z
LAST-MODIFIED:20190325T122404Z
UID:378-1559458800-1559476800@hollyfieldpta.org
SUMMARY:Car boot sale
DESCRIPTION:
URL:https://hollyfieldpta.org/event/car-boot-sale-4/
END:VEVENT
BEGIN:VEVENT
DTSTART;TZID=Europe/London:20190510T190000
DTEND;TZID=Europe/London:20190510T190000
DTSTAMP:20260424T163602
CREATED:20190321T095633Z
LAST-MODIFIED:20190321T102222Z
UID:371-1557514800-1557514800@hollyfieldpta.org
SUMMARY:Quiz Night
DESCRIPTION:Bar open at 7pm\nInternational hot buffet served from 7.15pm\nQuiz starts at 7.45pm\nOver 18s only
URL:https://hollyfieldpta.org/event/quiz-night-2/
LOCATION:School Hall
CATEGORIES:PTA fundraising event
ATTACH;FMTTYPE=image/png:https://hollyfieldpta.org/wp-content/uploads/2019/03/quiz-facebook.png
END:VEVENT
BEGIN:VEVENT
DTSTART;TZID=Europe/London:20190505T070000
DTEND;TZID=Europe/London:20190505T120000
DTSTAMP:20260424T163602
CREATED:20190325T122332Z
LAST-MODIFIED:20190325T122332Z
UID:377-1557039600-1557057600@hollyfieldpta.org
SUMMARY:Car boot sale
DESCRIPTION:
URL:https://hollyfieldpta.org/event/car-boot-sale-3/
END:VEVENT
BEGIN:VEVENT
DTSTART;TZID=Europe/London:20190407T070000
DTEND;TZID=Europe/London:20190407T120000
DTSTAMP:20260424T163602
CREATED:20190325T122251Z
LAST-MODIFIED:20190325T122251Z
UID:375-1554620400-1554638400@hollyfieldpta.org
SUMMARY:Car boot sale
DESCRIPTION:
URL:https://hollyfieldpta.org/event/car-boot-sale-2/
CATEGORIES:PTA fundraising event
END:VEVENT
BEGIN:VEVENT
DTSTART;TZID=Europe/London:20190312T193000
DTEND;TZID=Europe/London:20190312T193000
DTSTAMP:20260424T163602
CREATED:20190311T084832Z
LAST-MODIFIED:20190311T084832Z
UID:367-1552419000-1552419000@hollyfieldpta.org
SUMMARY:PTA Meeting
DESCRIPTION:
URL:https://hollyfieldpta.org/event/pta-meeting-23/
LOCATION:Cedars
CATEGORIES:PTA meeting
END:VEVENT
BEGIN:VEVENT
DTSTART;TZID=Europe/London:20190129T190000
DTEND;TZID=Europe/London:20190129T190000
DTSTAMP:20260424T163602
CREATED:20190118T170225Z
LAST-MODIFIED:20190118T170225Z
UID:356-1548788400-1548788400@hollyfieldpta.org
SUMMARY:Hollyfest planning meeting
DESCRIPTION:
URL:https://hollyfieldpta.org/event/hollyfest-planning-meeting/
LOCATION:School Hall
CATEGORIES:PTA meeting
END:VEVENT
BEGIN:VEVENT
DTSTART;TZID=Europe/London:20181220T190000
DTEND;TZID=Europe/London:20181220T230000
DTSTAMP:20260424T163602
CREATED:20181112T083638Z
LAST-MODIFIED:20181112T083638Z
UID:339-1545332400-1545346800@hollyfieldpta.org
SUMMARY:Christmas Carol Concert
DESCRIPTION:The PTA will be supporting the annual Christmas Carol Concert
URL:https://hollyfieldpta.org/event/christmas-carol-concert/
CATEGORIES:PTA supporting school event
END:VEVENT
END:VCALENDAR