BEGIN:VCALENDAR
VERSION:2.0
PRODID:-//Hollyfield School PTA - ECPv6.15.10//NONSGML v1.0//EN
CALSCALE:GREGORIAN
METHOD:PUBLISH
X-ORIGINAL-URL:https://hollyfieldpta.org
X-WR-CALDESC:Events for Hollyfield School PTA
REFRESH-INTERVAL;VALUE=DURATION:PT1H
X-Robots-Tag:noindex
X-PUBLISHED-TTL:PT1H
BEGIN:VTIMEZONE
TZID:Europe/London
BEGIN:DAYLIGHT
TZOFFSETFROM:+0000
TZOFFSETTO:+0100
TZNAME:BST
DTSTART:20150329T010000
END:DAYLIGHT
BEGIN:STANDARD
TZOFFSETFROM:+0100
TZOFFSETTO:+0000
TZNAME:GMT
DTSTART:20151025T010000
END:STANDARD
BEGIN:DAYLIGHT
TZOFFSETFROM:+0000
TZOFFSETTO:+0100
TZNAME:BST
DTSTART:20160327T010000
END:DAYLIGHT
BEGIN:STANDARD
TZOFFSETFROM:+0100
TZOFFSETTO:+0000
TZNAME:GMT
DTSTART:20161030T010000
END:STANDARD
BEGIN:DAYLIGHT
TZOFFSETFROM:+0000
TZOFFSETTO:+0100
TZNAME:BST
DTSTART:20170326T010000
END:DAYLIGHT
BEGIN:STANDARD
TZOFFSETFROM:+0100
TZOFFSETTO:+0000
TZNAME:GMT
DTSTART:20171029T010000
END:STANDARD
END:VTIMEZONE
BEGIN:VEVENT
DTSTART;TZID=Europe/London:20160927T183000
DTEND;TZID=Europe/London:20160927T183000
DTSTAMP:20260424T195212
CREATED:20160919T134919Z
LAST-MODIFIED:20160919T141156Z
UID:60-1475001000-1475001000@hollyfieldpta.org
SUMMARY:Year 10 info evening
DESCRIPTION:
URL:https://hollyfieldpta.org/event/year-10-info-evening/
CATEGORIES:PTA supporting school event
END:VEVENT
BEGIN:VEVENT
DTSTART;TZID=Europe/London:20160922T183000
DTEND;TZID=Europe/London:20160922T183000
DTSTAMP:20260424T195212
CREATED:20160919T134753Z
LAST-MODIFIED:20160919T141205Z
UID:59-1474569000-1474569000@hollyfieldpta.org
SUMMARY:Year 11 info evening
DESCRIPTION:
URL:https://hollyfieldpta.org/event/year-11-info-evening/
CATEGORIES:PTA supporting school event
END:VEVENT
BEGIN:VEVENT
DTSTART;TZID=Europe/London:20160914T193000
DTEND;TZID=Europe/London:20160914T193000
DTSTAMP:20260424T195212
CREATED:20160917T112305Z
LAST-MODIFIED:20160919T135222Z
UID:37-1473881400-1473881400@hollyfieldpta.org
SUMMARY:PTA AGM
DESCRIPTION:
URL:https://hollyfieldpta.org/event/pta-agm/
LOCATION:6th Form Common Room
CATEGORIES:PTA meeting
END:VEVENT
END:VCALENDAR