BEGIN:VCALENDAR
VERSION:2.0
PRODID:-//Hollyfield School PTA - ECPv6.15.10//NONSGML v1.0//EN
CALSCALE:GREGORIAN
METHOD:PUBLISH
X-ORIGINAL-URL:https://hollyfieldpta.org
X-WR-CALDESC:Events for Hollyfield School PTA
REFRESH-INTERVAL;VALUE=DURATION:PT1H
X-Robots-Tag:noindex
X-PUBLISHED-TTL:PT1H
BEGIN:VTIMEZONE
TZID:Europe/London
BEGIN:DAYLIGHT
TZOFFSETFROM:+0000
TZOFFSETTO:+0100
TZNAME:BST
DTSTART:20160327T010000
END:DAYLIGHT
BEGIN:STANDARD
TZOFFSETFROM:+0100
TZOFFSETTO:+0000
TZNAME:GMT
DTSTART:20161030T010000
END:STANDARD
BEGIN:DAYLIGHT
TZOFFSETFROM:+0000
TZOFFSETTO:+0100
TZNAME:BST
DTSTART:20170326T010000
END:DAYLIGHT
BEGIN:STANDARD
TZOFFSETFROM:+0100
TZOFFSETTO:+0000
TZNAME:GMT
DTSTART:20171029T010000
END:STANDARD
BEGIN:DAYLIGHT
TZOFFSETFROM:+0000
TZOFFSETTO:+0100
TZNAME:BST
DTSTART:20180325T010000
END:DAYLIGHT
BEGIN:STANDARD
TZOFFSETFROM:+0100
TZOFFSETTO:+0000
TZNAME:GMT
DTSTART:20181028T010000
END:STANDARD
BEGIN:DAYLIGHT
TZOFFSETFROM:+0000
TZOFFSETTO:+0100
TZNAME:BST
DTSTART:20190331T010000
END:DAYLIGHT
BEGIN:STANDARD
TZOFFSETFROM:+0100
TZOFFSETTO:+0000
TZNAME:GMT
DTSTART:20191027T010000
END:STANDARD
BEGIN:DAYLIGHT
TZOFFSETFROM:+0000
TZOFFSETTO:+0100
TZNAME:BST
DTSTART:20200329T010000
END:DAYLIGHT
BEGIN:STANDARD
TZOFFSETFROM:+0100
TZOFFSETTO:+0000
TZNAME:GMT
DTSTART:20201025T010000
END:STANDARD
END:VTIMEZONE
BEGIN:VEVENT
DTSTART;TZID=Europe/London:20190510T190000
DTEND;TZID=Europe/London:20190510T190000
DTSTAMP:20260424T193903
CREATED:20190321T095633Z
LAST-MODIFIED:20190321T102222Z
UID:371-1557514800-1557514800@hollyfieldpta.org
SUMMARY:Quiz Night
DESCRIPTION:Bar open at 7pm\nInternational hot buffet served from 7.15pm\nQuiz starts at 7.45pm\nOver 18s only
URL:https://hollyfieldpta.org/event/quiz-night-2/
LOCATION:School Hall
CATEGORIES:PTA fundraising event
ATTACH;FMTTYPE=image/png:https://hollyfieldpta.org/wp-content/uploads/2019/03/quiz-facebook.png
END:VEVENT
BEGIN:VEVENT
DTSTART;TZID=Europe/London:20190505T070000
DTEND;TZID=Europe/London:20190505T120000
DTSTAMP:20260424T193903
CREATED:20190325T122332Z
LAST-MODIFIED:20190325T122332Z
UID:377-1557039600-1557057600@hollyfieldpta.org
SUMMARY:Car boot sale
DESCRIPTION:
URL:https://hollyfieldpta.org/event/car-boot-sale-3/
END:VEVENT
BEGIN:VEVENT
DTSTART;TZID=Europe/London:20190407T070000
DTEND;TZID=Europe/London:20190407T120000
DTSTAMP:20260424T193903
CREATED:20190325T122251Z
LAST-MODIFIED:20190325T122251Z
UID:375-1554620400-1554638400@hollyfieldpta.org
SUMMARY:Car boot sale
DESCRIPTION:
URL:https://hollyfieldpta.org/event/car-boot-sale-2/
CATEGORIES:PTA fundraising event
END:VEVENT
BEGIN:VEVENT
DTSTART;TZID=Europe/London:20190312T193000
DTEND;TZID=Europe/London:20190312T193000
DTSTAMP:20260424T193903
CREATED:20190311T084832Z
LAST-MODIFIED:20190311T084832Z
UID:367-1552419000-1552419000@hollyfieldpta.org
SUMMARY:PTA Meeting
DESCRIPTION:
URL:https://hollyfieldpta.org/event/pta-meeting-23/
LOCATION:Cedars
CATEGORIES:PTA meeting
END:VEVENT
BEGIN:VEVENT
DTSTART;TZID=Europe/London:20190129T190000
DTEND;TZID=Europe/London:20190129T190000
DTSTAMP:20260424T193903
CREATED:20190118T170225Z
LAST-MODIFIED:20190118T170225Z
UID:356-1548788400-1548788400@hollyfieldpta.org
SUMMARY:Hollyfest planning meeting
DESCRIPTION:
URL:https://hollyfieldpta.org/event/hollyfest-planning-meeting/
LOCATION:School Hall
CATEGORIES:PTA meeting
END:VEVENT
BEGIN:VEVENT
DTSTART;TZID=Europe/London:20181220T190000
DTEND;TZID=Europe/London:20181220T230000
DTSTAMP:20260424T193903
CREATED:20181112T083638Z
LAST-MODIFIED:20181112T083638Z
UID:339-1545332400-1545346800@hollyfieldpta.org
SUMMARY:Christmas Carol Concert
DESCRIPTION:The PTA will be supporting the annual Christmas Carol Concert
URL:https://hollyfieldpta.org/event/christmas-carol-concert/
CATEGORIES:PTA supporting school event
END:VEVENT
BEGIN:VEVENT
DTSTART;TZID=Europe/London:20181113T193000
DTEND;TZID=Europe/London:20181113T193000
DTSTAMP:20260424T193903
CREATED:20181112T083450Z
LAST-MODIFIED:20181112T084537Z
UID:338-1542137400-1542137400@hollyfieldpta.org
SUMMARY:PTA meeting
DESCRIPTION:1 Apologies for absence and Introductions \n2 Agree minutes of last meeting  \n3 Review Actions \n4. Report from Chair and Treasurer \n5. Report from Tom Maltby \n6. Funding requests \n\nGCSE Pod\nSarah Neville – new macs\nMr Miller – new floodlights\nPrizes for Senior Citizens Carol Concert 7th Dec\n\n7. School Events and Fundraising Activities \n Past events \n\nParents Information Evenings\nOpen Air Cinema\n\n Upcoming events \n\nCelebration of Learning Evening – Thurs 29th November\nChristmas Carol Concert – Thurs 13th December\nHollyfest 2019\nBag packing at M&S Tolworth – 21st Dec 2018 & Waitrose Surbiton – 20th Dec 2018\nLine dancing fundraiser – Lise Marie\n\n8. Any Other business \n\nAuditing of the accounts\nPTA cupboard update\nDiscount travel opportunity email\n“Wishlist” from each school dept. – what do they really need? e.g. sewing machines for textiles dept.\, MUGA needs cleaning.\n\n\nXmas trees – selling them at school in December.\n\nDate of next meeting – Tues 11th Dec 2018\, 7.30pm\, C1 \nPTA meeting.          PTA fundraising.          PTA supporting school events \nCelebration of Learning Evening – Thurs 29th November 2018 \nMeeting – Tues 11th December 2018 \nChristmas Carol Concert – Thurs 13th December 2018 \nBag packing at Waitrose Surbiton – Thurs 20th December 2018 \nBag packing at M&S Tolworth – Fri 21st December 2018 \nCar Boot Sale/Table Top sale – Dates to be agreed \nSpring Concert – Thurs 28th March 2019 \nYear 11 Leavers Celebration Afternoon – Fri 24th May 2019 \nMaths and English GCSE breakfasts/lunches – June 2019 \nILEX Theatre school production – 27th to 29th June 2019 \nYear 6 (new Year 7 parents) Parents Meeting – 3rd & 4th July 2019 \nHOLLYFEST – Date to be agreed \nSPOTY – Thurs 18th July 2019
URL:https://hollyfieldpta.org/event/pta-meeting-22/
LOCATION:C1
CATEGORIES:PTA meeting
END:VEVENT
BEGIN:VEVENT
DTSTART;VALUE=DATE:20181017
DTEND;VALUE=DATE:20181018
DTSTAMP:20260424T193903
CREATED:20180926T112826Z
LAST-MODIFIED:20180926T112826Z
UID:332-1539734400-1539820799@hollyfieldpta.org
SUMMARY:Year 11 Parents Information Evening
DESCRIPTION:Volunteers needed for the evening
URL:https://hollyfieldpta.org/event/year-11-parents-information-evening/
CATEGORIES:PTA supporting school event
END:VEVENT
BEGIN:VEVENT
DTSTART;TZID=Europe/London:20181012T190000
DTEND;TZID=Europe/London:20181012T220000
DTSTAMP:20260424T193903
CREATED:20180716T144840Z
LAST-MODIFIED:20181012T163512Z
UID:315-1539370800-1539381600@hollyfieldpta.org
SUMMARY:Open Air Cinema
DESCRIPTION:Hollyfield’s first Cinema will take place on Friday 12th October 2018. The PTA will be providing a licensed bar\, international food\, hot dogs\, popcorn\, sweet stall and more. Gates from 7pm\, screening from 8pm. Limited parking on site. \nTICKETS ARE NOW SOLD OUT.  \n  \n 
URL:https://hollyfieldpta.org/event/open-air-cinema/
CATEGORIES:PTA fundraising event
ATTACH;FMTTYPE=image/jpeg:https://hollyfieldpta.org/wp-content/uploads/2018/07/greatest-showman-poster.jpg
END:VEVENT
BEGIN:VEVENT
DTSTART;TZID=Europe/London:20181003T193000
DTEND;TZID=Europe/London:20181003T210000
DTSTAMP:20260424T193903
CREATED:20180926T112714Z
LAST-MODIFIED:20180926T112714Z
UID:330-1538595000-1538600400@hollyfieldpta.org
SUMMARY:PTA Meeting
DESCRIPTION:
URL:https://hollyfieldpta.org/event/pta-meeting-21/
LOCATION:Cedars
CATEGORIES:PTA meeting
END:VEVENT
BEGIN:VEVENT
DTSTART;VALUE=DATE:20180912
DTEND;VALUE=DATE:20180913
DTSTAMP:20260424T193903
CREATED:20180717T212714Z
LAST-MODIFIED:20180717T212714Z
UID:317-1536710400-1536796799@hollyfieldpta.org
SUMMARY:Hollyfield PTA AGM
DESCRIPTION:Time and location TBC
URL:https://hollyfieldpta.org/event/hollyfield-pta-agm/
CATEGORIES:PTA meeting
END:VEVENT
BEGIN:VEVENT
DTSTART;VALUE=DATE:20180716
DTEND;VALUE=DATE:20180717
DTSTAMP:20260424T193903
CREATED:20180716T145033Z
LAST-MODIFIED:20180716T145138Z
UID:316-1531699200-1531785599@hollyfieldpta.org
SUMMARY:Sports Personality of the Year
DESCRIPTION:Bar and BBQ provided by the PTA
URL:https://hollyfieldpta.org/event/sports-personality-of-the-year/
CATEGORIES:PTA supporting school event
END:VEVENT
BEGIN:VEVENT
DTSTART;TZID=Europe/London:20180711T193000
DTEND;TZID=Europe/London:20180711T210000
DTSTAMP:20260424T193903
CREATED:20170816T200511Z
LAST-MODIFIED:20170816T200511Z
UID:234-1531337400-1531342800@hollyfieldpta.org
SUMMARY:PTA Meeting
DESCRIPTION:
URL:https://hollyfieldpta.org/event/pta-meeting-20/
CATEGORIES:PTA meeting
END:VEVENT
BEGIN:VEVENT
DTSTART;TZID=Europe/London:20180708T070000
DTEND;TZID=Europe/London:20180708T130000
DTSTAMP:20260424T193903
CREATED:20180622T174427Z
LAST-MODIFIED:20180622T174534Z
UID:310-1531033200-1531054800@hollyfieldpta.org
SUMMARY:Car Boot Sale
DESCRIPTION:
URL:https://hollyfieldpta.org/event/car-boot-sale/
CATEGORIES:PTA fundraising event
ATTACH;FMTTYPE=image/jpeg:https://hollyfieldpta.org/wp-content/uploads/2018/06/3919d535-99f2-474a-932b-ff1a753f3c98.jpg
END:VEVENT
BEGIN:VEVENT
DTSTART;TZID=Europe/London:20180613T193000
DTEND;TZID=Europe/London:20180613T210000
DTSTAMP:20260424T193903
CREATED:20170816T200428Z
LAST-MODIFIED:20170816T200428Z
UID:233-1528918200-1528923600@hollyfieldpta.org
SUMMARY:PTA Meeting
DESCRIPTION:
URL:https://hollyfieldpta.org/event/pta-meeting-19/
CATEGORIES:PTA meeting
END:VEVENT
BEGIN:VEVENT
DTSTART;TZID=Europe/London:20180509T193000
DTEND;TZID=Europe/London:20180509T210000
DTSTAMP:20260424T193903
CREATED:20170816T200357Z
LAST-MODIFIED:20170816T200357Z
UID:232-1525894200-1525899600@hollyfieldpta.org
SUMMARY:PTA Meeting
DESCRIPTION:
URL:https://hollyfieldpta.org/event/pta-meeting-18/
CATEGORIES:PTA meeting
END:VEVENT
BEGIN:VEVENT
DTSTART;TZID=Europe/London:20180328T183000
DTEND;TZID=Europe/London:20180328T183000
DTSTAMP:20260424T193903
CREATED:20180322T081306Z
LAST-MODIFIED:20180322T081411Z
UID:298-1522261800-1522261800@hollyfieldpta.org
SUMMARY:Spring Concert
DESCRIPTION:The PTA will be supporting this event. Please email ptahollyfield@gmail.com if you can help.
URL:https://hollyfieldpta.org/event/spring-concert/
CATEGORIES:PTA supporting school event
ATTACH;FMTTYPE=image/png:https://hollyfieldpta.org/wp-content/uploads/2018/03/Attachment-1.png
END:VEVENT
BEGIN:VEVENT
DTSTART;TZID=Europe/London:20180314T193000
DTEND;TZID=Europe/London:20180314T210000
DTSTAMP:20260424T193903
CREATED:20170816T200321Z
LAST-MODIFIED:20170816T200321Z
UID:231-1521055800-1521061200@hollyfieldpta.org
SUMMARY:PTA Meeting
DESCRIPTION:
URL:https://hollyfieldpta.org/event/pta-meeting-17/
CATEGORIES:PTA meeting
END:VEVENT
BEGIN:VEVENT
DTSTART;TZID=Europe/London:20180223T190000
DTEND;TZID=Europe/London:20180223T230000
DTSTAMP:20260424T193903
CREATED:20180118T151951Z
LAST-MODIFIED:20180219T151651Z
UID:256-1519412400-1519426800@hollyfieldpta.org
SUMMARY:February Quiz Night!
DESCRIPTION:Included in the price is a selection of international dishes from Ghana\, Persia\, Thailand\, Sri Lanka\, Korea\, Sudan and Lebanon\, with meat\, fish\, vegetarian and vegan options. \n\n  \nWant to reserve a place but pay on the door? Please email ptahollyfield@gmail.com \nNB We need to know final numbers at least 48 hours in advance.
URL:https://hollyfieldpta.org/event/feb-quiz-night/
LOCATION:School Hall
CATEGORIES:PTA fundraising event
ATTACH;FMTTYPE=image/jpeg:https://hollyfieldpta.org/wp-content/uploads/2018/01/Quiz-night-short.jpg
END:VEVENT
BEGIN:VEVENT
DTSTART;TZID=Europe/London:20180207T193000
DTEND;TZID=Europe/London:20180207T210000
DTSTAMP:20260424T193903
CREATED:20170816T200243Z
LAST-MODIFIED:20170816T200243Z
UID:230-1518031800-1518037200@hollyfieldpta.org
SUMMARY:PTA Meeting
DESCRIPTION:
URL:https://hollyfieldpta.org/event/pta-meeting-16/
CATEGORIES:PTA meeting
END:VEVENT
BEGIN:VEVENT
DTSTART;TZID=Europe/London:20180110T193000
DTEND;TZID=Europe/London:20180110T210000
DTSTAMP:20260424T193903
CREATED:20170816T200209Z
LAST-MODIFIED:20170816T200209Z
UID:229-1515612600-1515618000@hollyfieldpta.org
SUMMARY:PTA Meeting
DESCRIPTION:
URL:https://hollyfieldpta.org/event/pta-meeting-15/
CATEGORIES:PTA meeting
END:VEVENT
BEGIN:VEVENT
DTSTART;TZID=Europe/London:20171206T193000
DTEND;TZID=Europe/London:20171206T210000
DTSTAMP:20260424T193903
CREATED:20170816T200138Z
LAST-MODIFIED:20170816T200138Z
UID:228-1512588600-1512594000@hollyfieldpta.org
SUMMARY:PTA Meeting
DESCRIPTION:
URL:https://hollyfieldpta.org/event/pta-meeting-14/
CATEGORIES:PTA meeting
END:VEVENT
BEGIN:VEVENT
DTSTART;TZID=Europe/London:20171110T190000
DTEND;TZID=Europe/London:20171110T230000
DTSTAMP:20260424T193903
CREATED:20171004T114317Z
LAST-MODIFIED:20171109T135953Z
UID:241-1510340400-1510354800@hollyfieldpta.org
SUMMARY:1930s Quiz Night
DESCRIPTION:UPDATE: 9 NOV\, NOON \nWE REGRET THAT THIS EVENT HAS BEEN CANCELLED. TICKET HOLDERS WILL BE REFUNDED IN FULL. PLEASE ACCEPT OUR DEEPEST APOLOGIES FOR THE INCONVENIENCE. \n \n 
URL:https://hollyfieldpta.org/event/1930s-quiz-night/
CATEGORIES:PTA fundraising event
END:VEVENT
BEGIN:VEVENT
DTSTART;TZID=Europe/London:20171108T193000
DTEND;TZID=Europe/London:20171108T210000
DTSTAMP:20260424T193903
CREATED:20170816T200104Z
LAST-MODIFIED:20170816T200104Z
UID:227-1510169400-1510174800@hollyfieldpta.org
SUMMARY:PTA Meeting
DESCRIPTION:
URL:https://hollyfieldpta.org/event/pta-meeting-13/
CATEGORIES:PTA meeting
END:VEVENT
BEGIN:VEVENT
DTSTART;TZID=Europe/London:20171011T193000
DTEND;TZID=Europe/London:20171011T210000
DTSTAMP:20260424T193903
CREATED:20170816T200025Z
LAST-MODIFIED:20170816T200025Z
UID:226-1507750200-1507755600@hollyfieldpta.org
SUMMARY:PTA Meeting
DESCRIPTION:
URL:https://hollyfieldpta.org/event/pta-meeting-12/
CATEGORIES:PTA meeting
END:VEVENT
BEGIN:VEVENT
DTSTART;TZID=Europe/London:20170913T193000
DTEND;TZID=Europe/London:20170913T210000
DTSTAMP:20260424T193903
CREATED:20170816T195934Z
LAST-MODIFIED:20170816T195934Z
UID:225-1505331000-1505336400@hollyfieldpta.org
SUMMARY:AGM
DESCRIPTION:
URL:https://hollyfieldpta.org/event/agm/
LOCATION:C1
CATEGORIES:PTA meeting
END:VEVENT
BEGIN:VEVENT
DTSTART;VALUE=DATE:20170708
DTEND;VALUE=DATE:20170709
DTSTAMP:20260424T193903
CREATED:20160919T140050Z
LAST-MODIFIED:20170417T192433Z
UID:70-1499472000-1499558399@hollyfieldpta.org
SUMMARY:Hollyfest 2017
DESCRIPTION:See the Hollyfest page for more info and to book tickets
URL:https://hollyfieldpta.org/event/hollyfest-2017/
CATEGORIES:PTA fundraising event
ATTACH;FMTTYPE=image/jpeg:https://hollyfieldpta.org/wp-content/uploads/2017/03/HOLLYFEST-2017-LOGO-5.jpg
END:VEVENT
BEGIN:VEVENT
DTSTART;TZID=Europe/London:20170706T190000
DTEND;TZID=Europe/London:20170706T190000
DTSTAMP:20260424T193903
CREATED:20170623T163825Z
LAST-MODIFIED:20170623T163825Z
UID:153-1499367600-1499367600@hollyfieldpta.org
SUMMARY:New Year 7 Parent Info Evening
DESCRIPTION:
URL:https://hollyfieldpta.org/event/new-year-7-parent-info-evening/
CATEGORIES:PTA supporting school event
END:VEVENT
BEGIN:VEVENT
DTSTART;TZID=Europe/London:20170705T190000
DTEND;TZID=Europe/London:20170705T190000
DTSTAMP:20260424T193903
CREATED:20160919T140016Z
LAST-MODIFIED:20170623T163800Z
UID:69-1499281200-1499281200@hollyfieldpta.org
SUMMARY:New Year 7 Parent Info Evening
DESCRIPTION:
URL:https://hollyfieldpta.org/event/new-year-7-parent-info-evenings/
CATEGORIES:PTA supporting school event
END:VEVENT
BEGIN:VEVENT
DTSTART;TZID=Europe/London:20170627T193000
DTEND;TZID=Europe/London:20170627T193000
DTSTAMP:20260424T193903
CREATED:20160917T114238Z
LAST-MODIFIED:20170625T075616Z
UID:53-1498591800-1498591800@hollyfieldpta.org
SUMMARY:PTA meeting
DESCRIPTION:
URL:https://hollyfieldpta.org/event/pta-meeting-10/
LOCATION:C1
CATEGORIES:PTA meeting
END:VEVENT
END:VCALENDAR